BEGIN:VCALENDAR
VERSION:2.0
PRODID:-//CAG Somerset - ECPv6.15.18//NONSGML v1.0//EN
CALSCALE:GREGORIAN
METHOD:PUBLISH
X-ORIGINAL-URL:https://cagsomerset.org.uk
X-WR-CALDESC:Events for CAG Somerset
REFRESH-INTERVAL;VALUE=DURATION:PT1H
X-Robots-Tag:noindex
X-PUBLISHED-TTL:PT1H
BEGIN:VTIMEZONE
TZID:UTC
BEGIN:STANDARD
TZOFFSETFROM:+0000
TZOFFSETTO:+0000
TZNAME:UTC
DTSTART:20250101T000000
END:STANDARD
END:VTIMEZONE
BEGIN:VEVENT
DTSTART;TZID=UTC:20260124T100000
DTEND;TZID=UTC:20260124T130000
DTSTAMP:20260422T085117
CREATED:20251215T155030Z
LAST-MODIFIED:20251215T155031Z
UID:10001302-1769248800-1769259600@cagsomerset.org.uk
SUMMARY:PAT testing - Train the Trainer
DESCRIPTION:CAG Somerset members are invited to take part in a practical\, people-centred Train the Trainer session designed to build local skills and help Repair Groups to run safely. This workshop will equip you with the knowledge and confidence to deliver PAT testing training within your own groups\, projects\, and community initiatives. \nTo get the most from the session\, you’ll need some prior experience delivering training or leading workshops. This helps us keep the day hands-on\, collaborative\, and focused. You will receive a set of PAT testing slides as a resource to use after the session. \nIf you’re passionate about supporting others\, strengthening community capacity\, and helping local projects run safely and smoothly\, we’d love to have you with us. \nRefreshments will be available \nIf you have any questions please email maxine.anderton@resourcefutures.co.uk \nBook your free space for CAG members here \nhttps://app.tickettailor.com/event/ev_7354575 \n  \n 
URL:https://cagsomerset.org.uk/event/pat-testing-train-the-trainer/
LOCATION:The Engine Room\, TA6 3BL
CATEGORIES:CAG member training
ATTACH;FMTTYPE=image/png:https://cagsomerset.org.uk/wp-content/uploads/2025/12/Train-the-trainer-3.png
END:VEVENT
END:VCALENDAR