BEGIN:VCALENDAR
VERSION:2.0
PRODID:-//CAG Somerset - ECPv6.15.18//NONSGML v1.0//EN
CALSCALE:GREGORIAN
METHOD:PUBLISH
X-ORIGINAL-URL:https://cagsomerset.org.uk
X-WR-CALDESC:Events for CAG Somerset
REFRESH-INTERVAL;VALUE=DURATION:PT1H
X-Robots-Tag:noindex
X-PUBLISHED-TTL:PT1H
BEGIN:VTIMEZONE
TZID:UTC
BEGIN:STANDARD
TZOFFSETFROM:+0000
TZOFFSETTO:+0000
TZNAME:UTC
DTSTART:20250101T000000
END:STANDARD
END:VTIMEZONE
BEGIN:VEVENT
DTSTART;TZID=UTC:20260328T100000
DTEND;TZID=UTC:20260328T120000
DTSTAMP:20260424T153459
CREATED:20241003T105112Z
LAST-MODIFIED:20241003T105112Z
UID:10001163-1774692000-1774699200@cagsomerset.org.uk
SUMMARY:Street repair cafe
DESCRIPTION:We are a group of local volunteers\, bringing together our skills to share. We aim to reduce waste and the need to buy new items by mending bikes\, appliances\, clothing\, clocks and all sorts of other things. There is also the opportunity to learn new skills as repairers are able to teach how to maintain and mend. Our team of keen bakers offer a delicious selection of cakes and biscuits which makes the whole event a thoroughly enjoyable community gathering.
URL:https://cagsomerset.org.uk/event/street-repair-cafe-2/2026-03-28/
CATEGORIES:Repair Cafe
ATTACH;FMTTYPE=image/jpeg:https://cagsomerset.org.uk/wp-content/uploads/2024/02/repair-cafe-logo-002.jpeg
END:VEVENT
END:VCALENDAR