BEGIN:VCALENDAR
VERSION:2.0
PRODID:-//CAG Somerset - ECPv6.15.18//NONSGML v1.0//EN
CALSCALE:GREGORIAN
METHOD:PUBLISH
X-ORIGINAL-URL:https://cagsomerset.org.uk
X-WR-CALDESC:Events for CAG Somerset
REFRESH-INTERVAL;VALUE=DURATION:PT1H
X-Robots-Tag:noindex
X-PUBLISHED-TTL:PT1H
BEGIN:VTIMEZONE
TZID:UTC
BEGIN:STANDARD
TZOFFSETFROM:+0000
TZOFFSETTO:+0000
TZNAME:UTC
DTSTART:20250101T000000
END:STANDARD
END:VTIMEZONE
BEGIN:VEVENT
DTSTART;TZID=UTC:20261001T100000
DTEND;TZID=UTC:20261001T120000
DTSTAMP:20260425T131524
CREATED:20241003T095748Z
LAST-MODIFIED:20241003T095748Z
UID:10000675-1790848800-1790856000@cagsomerset.org.uk
SUMMARY:Green Illminster Share and Repair shop
DESCRIPTION:Green Ilminster share and repair shop. \nWe opened our doors in February 2022\, with the aim of providing an affordable share and repair service on the high street. Since then\, we have repaired over 1000 items and recently launched our library of things to share. \nAs a Green Ilminster project\, we are committed to helping people and planet by making better use of the resources we already have available\, both the things we own and the skills we possess.
URL:https://cagsomerset.org.uk/event/green-illminster-share-and-repair-shop/2026-10-01/
LOCATION:share and repair illminster\, 18 silver street\, Ilminster\, TA19 0DJ
CATEGORIES:Repair Cafe,share shop
ATTACH;FMTTYPE=image/png:https://cagsomerset.org.uk/wp-content/uploads/2023/12/Logo_new.png
ORGANIZER;CN="Green Ilminster":MAILTO:info@greenilminster.org.uk
END:VEVENT
BEGIN:VEVENT
DTSTART;TZID=UTC:20261003T100000
DTEND;TZID=UTC:20261003T120000
DTSTAMP:20260425T131524
CREATED:20241003T095748Z
LAST-MODIFIED:20241003T095748Z
UID:10000676-1791021600-1791028800@cagsomerset.org.uk
SUMMARY:Green Illminster Share and Repair shop
DESCRIPTION:Green Ilminster share and repair shop. \nWe opened our doors in February 2022\, with the aim of providing an affordable share and repair service on the high street. Since then\, we have repaired over 1000 items and recently launched our library of things to share. \nAs a Green Ilminster project\, we are committed to helping people and planet by making better use of the resources we already have available\, both the things we own and the skills we possess.
URL:https://cagsomerset.org.uk/event/green-illminster-share-and-repair-shop/2026-10-03/
LOCATION:share and repair illminster\, 18 silver street\, Ilminster\, TA19 0DJ
CATEGORIES:Repair Cafe,share shop
ATTACH;FMTTYPE=image/png:https://cagsomerset.org.uk/wp-content/uploads/2023/12/Logo_new.png
ORGANIZER;CN="Green Ilminster":MAILTO:info@greenilminster.org.uk
END:VEVENT
BEGIN:VEVENT
DTSTART;TZID=UTC:20261005T100000
DTEND;TZID=UTC:20261005T120000
DTSTAMP:20260425T131524
CREATED:20241003T095748Z
LAST-MODIFIED:20241003T095748Z
UID:10000677-1791194400-1791201600@cagsomerset.org.uk
SUMMARY:Green Illminster Share and Repair shop
DESCRIPTION:Green Ilminster share and repair shop. \nWe opened our doors in February 2022\, with the aim of providing an affordable share and repair service on the high street. Since then\, we have repaired over 1000 items and recently launched our library of things to share. \nAs a Green Ilminster project\, we are committed to helping people and planet by making better use of the resources we already have available\, both the things we own and the skills we possess.
URL:https://cagsomerset.org.uk/event/green-illminster-share-and-repair-shop/2026-10-05/
LOCATION:share and repair illminster\, 18 silver street\, Ilminster\, TA19 0DJ
CATEGORIES:Repair Cafe,share shop
ATTACH;FMTTYPE=image/png:https://cagsomerset.org.uk/wp-content/uploads/2023/12/Logo_new.png
ORGANIZER;CN="Green Ilminster":MAILTO:info@greenilminster.org.uk
END:VEVENT
BEGIN:VEVENT
DTSTART;TZID=UTC:20261008T100000
DTEND;TZID=UTC:20261008T120000
DTSTAMP:20260425T131524
CREATED:20241003T095748Z
LAST-MODIFIED:20241003T095748Z
UID:10000678-1791453600-1791460800@cagsomerset.org.uk
SUMMARY:Green Illminster Share and Repair shop
DESCRIPTION:Green Ilminster share and repair shop. \nWe opened our doors in February 2022\, with the aim of providing an affordable share and repair service on the high street. Since then\, we have repaired over 1000 items and recently launched our library of things to share. \nAs a Green Ilminster project\, we are committed to helping people and planet by making better use of the resources we already have available\, both the things we own and the skills we possess.
URL:https://cagsomerset.org.uk/event/green-illminster-share-and-repair-shop/2026-10-08/
LOCATION:share and repair illminster\, 18 silver street\, Ilminster\, TA19 0DJ
CATEGORIES:Repair Cafe,share shop
ATTACH;FMTTYPE=image/png:https://cagsomerset.org.uk/wp-content/uploads/2023/12/Logo_new.png
ORGANIZER;CN="Green Ilminster":MAILTO:info@greenilminster.org.uk
END:VEVENT
BEGIN:VEVENT
DTSTART;TZID=UTC:20261010T100000
DTEND;TZID=UTC:20261010T120000
DTSTAMP:20260425T131524
CREATED:20241003T095748Z
LAST-MODIFIED:20241003T095748Z
UID:10000679-1791626400-1791633600@cagsomerset.org.uk
SUMMARY:Green Illminster Share and Repair shop
DESCRIPTION:Green Ilminster share and repair shop. \nWe opened our doors in February 2022\, with the aim of providing an affordable share and repair service on the high street. Since then\, we have repaired over 1000 items and recently launched our library of things to share. \nAs a Green Ilminster project\, we are committed to helping people and planet by making better use of the resources we already have available\, both the things we own and the skills we possess.
URL:https://cagsomerset.org.uk/event/green-illminster-share-and-repair-shop/2026-10-10/
LOCATION:share and repair illminster\, 18 silver street\, Ilminster\, TA19 0DJ
CATEGORIES:Repair Cafe,share shop
ATTACH;FMTTYPE=image/png:https://cagsomerset.org.uk/wp-content/uploads/2023/12/Logo_new.png
ORGANIZER;CN="Green Ilminster":MAILTO:info@greenilminster.org.uk
END:VEVENT
BEGIN:VEVENT
DTSTART;TZID=UTC:20261012T100000
DTEND;TZID=UTC:20261012T120000
DTSTAMP:20260425T131524
CREATED:20241003T095748Z
LAST-MODIFIED:20241003T095748Z
UID:10000680-1791799200-1791806400@cagsomerset.org.uk
SUMMARY:Green Illminster Share and Repair shop
DESCRIPTION:Green Ilminster share and repair shop. \nWe opened our doors in February 2022\, with the aim of providing an affordable share and repair service on the high street. Since then\, we have repaired over 1000 items and recently launched our library of things to share. \nAs a Green Ilminster project\, we are committed to helping people and planet by making better use of the resources we already have available\, both the things we own and the skills we possess.
URL:https://cagsomerset.org.uk/event/green-illminster-share-and-repair-shop/2026-10-12/
LOCATION:share and repair illminster\, 18 silver street\, Ilminster\, TA19 0DJ
CATEGORIES:Repair Cafe,share shop
ATTACH;FMTTYPE=image/png:https://cagsomerset.org.uk/wp-content/uploads/2023/12/Logo_new.png
ORGANIZER;CN="Green Ilminster":MAILTO:info@greenilminster.org.uk
END:VEVENT
BEGIN:VEVENT
DTSTART;TZID=UTC:20261015T100000
DTEND;TZID=UTC:20261015T120000
DTSTAMP:20260425T131524
CREATED:20241003T095748Z
LAST-MODIFIED:20241003T095748Z
UID:10000681-1792058400-1792065600@cagsomerset.org.uk
SUMMARY:Green Illminster Share and Repair shop
DESCRIPTION:Green Ilminster share and repair shop. \nWe opened our doors in February 2022\, with the aim of providing an affordable share and repair service on the high street. Since then\, we have repaired over 1000 items and recently launched our library of things to share. \nAs a Green Ilminster project\, we are committed to helping people and planet by making better use of the resources we already have available\, both the things we own and the skills we possess.
URL:https://cagsomerset.org.uk/event/green-illminster-share-and-repair-shop/2026-10-15/
LOCATION:share and repair illminster\, 18 silver street\, Ilminster\, TA19 0DJ
CATEGORIES:Repair Cafe,share shop
ATTACH;FMTTYPE=image/png:https://cagsomerset.org.uk/wp-content/uploads/2023/12/Logo_new.png
ORGANIZER;CN="Green Ilminster":MAILTO:info@greenilminster.org.uk
END:VEVENT
BEGIN:VEVENT
DTSTART;TZID=UTC:20261017T100000
DTEND;TZID=UTC:20261017T120000
DTSTAMP:20260425T131524
CREATED:20241003T095748Z
LAST-MODIFIED:20241003T095748Z
UID:10000682-1792231200-1792238400@cagsomerset.org.uk
SUMMARY:Green Illminster Share and Repair shop
DESCRIPTION:Green Ilminster share and repair shop. \nWe opened our doors in February 2022\, with the aim of providing an affordable share and repair service on the high street. Since then\, we have repaired over 1000 items and recently launched our library of things to share. \nAs a Green Ilminster project\, we are committed to helping people and planet by making better use of the resources we already have available\, both the things we own and the skills we possess.
URL:https://cagsomerset.org.uk/event/green-illminster-share-and-repair-shop/2026-10-17/
LOCATION:share and repair illminster\, 18 silver street\, Ilminster\, TA19 0DJ
CATEGORIES:Repair Cafe,share shop
ATTACH;FMTTYPE=image/png:https://cagsomerset.org.uk/wp-content/uploads/2023/12/Logo_new.png
ORGANIZER;CN="Green Ilminster":MAILTO:info@greenilminster.org.uk
END:VEVENT
BEGIN:VEVENT
DTSTART;TZID=UTC:20261017T100000
DTEND;TZID=UTC:20261017T120000
DTSTAMP:20260425T131524
CREATED:20241003T105726Z
LAST-MODIFIED:20241003T105726Z
UID:10001230-1792231200-1792238400@cagsomerset.org.uk
SUMMARY:Wivey repair cafe
DESCRIPTION:Wivey repair cafe – a workshop run by volunteers\, with the intention of repairing domestic electrical items & preventing them from ending up in landfill. \nCheck facebook group below for updates \nhttps://www.facebook.com/Wiveyrepaircafe
URL:https://cagsomerset.org.uk/event/wivey-repair-cafe/2026-10-17/
LOCATION:wiviliscombe community center\, West street\, wiviliscombe\, TA42AE
CATEGORIES:Repair Cafe
ATTACH;FMTTYPE=image/png:https://cagsomerset.org.uk/wp-content/uploads/2024/01/Screenshot-2024-01-22-124957.png
END:VEVENT
BEGIN:VEVENT
DTSTART;TZID=UTC:20261019T100000
DTEND;TZID=UTC:20261019T120000
DTSTAMP:20260425T131524
CREATED:20241003T095748Z
LAST-MODIFIED:20241003T095748Z
UID:10000683-1792404000-1792411200@cagsomerset.org.uk
SUMMARY:Green Illminster Share and Repair shop
DESCRIPTION:Green Ilminster share and repair shop. \nWe opened our doors in February 2022\, with the aim of providing an affordable share and repair service on the high street. Since then\, we have repaired over 1000 items and recently launched our library of things to share. \nAs a Green Ilminster project\, we are committed to helping people and planet by making better use of the resources we already have available\, both the things we own and the skills we possess.
URL:https://cagsomerset.org.uk/event/green-illminster-share-and-repair-shop/2026-10-19/
LOCATION:share and repair illminster\, 18 silver street\, Ilminster\, TA19 0DJ
CATEGORIES:Repair Cafe,share shop
ATTACH;FMTTYPE=image/png:https://cagsomerset.org.uk/wp-content/uploads/2023/12/Logo_new.png
ORGANIZER;CN="Green Ilminster":MAILTO:info@greenilminster.org.uk
END:VEVENT
BEGIN:VEVENT
DTSTART;TZID=UTC:20261022T100000
DTEND;TZID=UTC:20261022T120000
DTSTAMP:20260425T131524
CREATED:20241003T095748Z
LAST-MODIFIED:20241003T095748Z
UID:10000684-1792663200-1792670400@cagsomerset.org.uk
SUMMARY:Green Illminster Share and Repair shop
DESCRIPTION:Green Ilminster share and repair shop. \nWe opened our doors in February 2022\, with the aim of providing an affordable share and repair service on the high street. Since then\, we have repaired over 1000 items and recently launched our library of things to share. \nAs a Green Ilminster project\, we are committed to helping people and planet by making better use of the resources we already have available\, both the things we own and the skills we possess.
URL:https://cagsomerset.org.uk/event/green-illminster-share-and-repair-shop/2026-10-22/
LOCATION:share and repair illminster\, 18 silver street\, Ilminster\, TA19 0DJ
CATEGORIES:Repair Cafe,share shop
ATTACH;FMTTYPE=image/png:https://cagsomerset.org.uk/wp-content/uploads/2023/12/Logo_new.png
ORGANIZER;CN="Green Ilminster":MAILTO:info@greenilminster.org.uk
END:VEVENT
BEGIN:VEVENT
DTSTART;TZID=UTC:20261024T100000
DTEND;TZID=UTC:20261024T120000
DTSTAMP:20260425T131524
CREATED:20241003T095748Z
LAST-MODIFIED:20241003T095748Z
UID:10000685-1792836000-1792843200@cagsomerset.org.uk
SUMMARY:Green Illminster Share and Repair shop
DESCRIPTION:Green Ilminster share and repair shop. \nWe opened our doors in February 2022\, with the aim of providing an affordable share and repair service on the high street. Since then\, we have repaired over 1000 items and recently launched our library of things to share. \nAs a Green Ilminster project\, we are committed to helping people and planet by making better use of the resources we already have available\, both the things we own and the skills we possess.
URL:https://cagsomerset.org.uk/event/green-illminster-share-and-repair-shop/2026-10-24/
LOCATION:share and repair illminster\, 18 silver street\, Ilminster\, TA19 0DJ
CATEGORIES:Repair Cafe,share shop
ATTACH;FMTTYPE=image/png:https://cagsomerset.org.uk/wp-content/uploads/2023/12/Logo_new.png
ORGANIZER;CN="Green Ilminster":MAILTO:info@greenilminster.org.uk
END:VEVENT
BEGIN:VEVENT
DTSTART;TZID=UTC:20261024T100000
DTEND;TZID=UTC:20261024T120000
DTSTAMP:20260425T131524
CREATED:20241003T105112Z
LAST-MODIFIED:20241003T105112Z
UID:10001170-1792836000-1792843200@cagsomerset.org.uk
SUMMARY:Street repair cafe
DESCRIPTION:We are a group of local volunteers\, bringing together our skills to share. We aim to reduce waste and the need to buy new items by mending bikes\, appliances\, clothing\, clocks and all sorts of other things. There is also the opportunity to learn new skills as repairers are able to teach how to maintain and mend. Our team of keen bakers offer a delicious selection of cakes and biscuits which makes the whole event a thoroughly enjoyable community gathering.
URL:https://cagsomerset.org.uk/event/street-repair-cafe-2/2026-10-24/
CATEGORIES:Repair Cafe
ATTACH;FMTTYPE=image/jpeg:https://cagsomerset.org.uk/wp-content/uploads/2024/02/repair-cafe-logo-002.jpeg
END:VEVENT
BEGIN:VEVENT
DTSTART;TZID=UTC:20261026T100000
DTEND;TZID=UTC:20261026T120000
DTSTAMP:20260425T131524
CREATED:20241003T095748Z
LAST-MODIFIED:20241003T095748Z
UID:10000686-1793008800-1793016000@cagsomerset.org.uk
SUMMARY:Green Illminster Share and Repair shop
DESCRIPTION:Green Ilminster share and repair shop. \nWe opened our doors in February 2022\, with the aim of providing an affordable share and repair service on the high street. Since then\, we have repaired over 1000 items and recently launched our library of things to share. \nAs a Green Ilminster project\, we are committed to helping people and planet by making better use of the resources we already have available\, both the things we own and the skills we possess.
URL:https://cagsomerset.org.uk/event/green-illminster-share-and-repair-shop/2026-10-26/
LOCATION:share and repair illminster\, 18 silver street\, Ilminster\, TA19 0DJ
CATEGORIES:Repair Cafe,share shop
ATTACH;FMTTYPE=image/png:https://cagsomerset.org.uk/wp-content/uploads/2023/12/Logo_new.png
ORGANIZER;CN="Green Ilminster":MAILTO:info@greenilminster.org.uk
END:VEVENT
BEGIN:VEVENT
DTSTART;TZID=UTC:20261029T100000
DTEND;TZID=UTC:20261029T120000
DTSTAMP:20260425T131524
CREATED:20241003T095748Z
LAST-MODIFIED:20241003T095748Z
UID:10000687-1793268000-1793275200@cagsomerset.org.uk
SUMMARY:Green Illminster Share and Repair shop
DESCRIPTION:Green Ilminster share and repair shop. \nWe opened our doors in February 2022\, with the aim of providing an affordable share and repair service on the high street. Since then\, we have repaired over 1000 items and recently launched our library of things to share. \nAs a Green Ilminster project\, we are committed to helping people and planet by making better use of the resources we already have available\, both the things we own and the skills we possess.
URL:https://cagsomerset.org.uk/event/green-illminster-share-and-repair-shop/2026-10-29/
LOCATION:share and repair illminster\, 18 silver street\, Ilminster\, TA19 0DJ
CATEGORIES:Repair Cafe,share shop
ATTACH;FMTTYPE=image/png:https://cagsomerset.org.uk/wp-content/uploads/2023/12/Logo_new.png
ORGANIZER;CN="Green Ilminster":MAILTO:info@greenilminster.org.uk
END:VEVENT
BEGIN:VEVENT
DTSTART;TZID=UTC:20261031T100000
DTEND;TZID=UTC:20261031T120000
DTSTAMP:20260425T131524
CREATED:20241003T095748Z
LAST-MODIFIED:20241003T095748Z
UID:10000688-1793440800-1793448000@cagsomerset.org.uk
SUMMARY:Green Illminster Share and Repair shop
DESCRIPTION:Green Ilminster share and repair shop. \nWe opened our doors in February 2022\, with the aim of providing an affordable share and repair service on the high street. Since then\, we have repaired over 1000 items and recently launched our library of things to share. \nAs a Green Ilminster project\, we are committed to helping people and planet by making better use of the resources we already have available\, both the things we own and the skills we possess.
URL:https://cagsomerset.org.uk/event/green-illminster-share-and-repair-shop/2026-10-31/
LOCATION:share and repair illminster\, 18 silver street\, Ilminster\, TA19 0DJ
CATEGORIES:Repair Cafe,share shop
ATTACH;FMTTYPE=image/png:https://cagsomerset.org.uk/wp-content/uploads/2023/12/Logo_new.png
ORGANIZER;CN="Green Ilminster":MAILTO:info@greenilminster.org.uk
END:VEVENT
END:VCALENDAR