BEGIN:VCALENDAR
VERSION:2.0
PRODID:-//CAG Somerset - ECPv6.15.18//NONSGML v1.0//EN
CALSCALE:GREGORIAN
METHOD:PUBLISH
X-ORIGINAL-URL:https://cagsomerset.org.uk
X-WR-CALDESC:Events for CAG Somerset
REFRESH-INTERVAL;VALUE=DURATION:PT1H
X-Robots-Tag:noindex
X-PUBLISHED-TTL:PT1H
BEGIN:VTIMEZONE
TZID:UTC
BEGIN:STANDARD
TZOFFSETFROM:+0000
TZOFFSETTO:+0000
TZNAME:UTC
DTSTART:20250101T000000
END:STANDARD
END:VTIMEZONE
BEGIN:VEVENT
DTSTART;TZID=UTC:20260601T100000
DTEND;TZID=UTC:20260601T120000
DTSTAMP:20260423T095719
CREATED:20241003T095748Z
LAST-MODIFIED:20241003T095748Z
UID:10000623-1780308000-1780315200@cagsomerset.org.uk
SUMMARY:Green Illminster Share and Repair shop
DESCRIPTION:Green Ilminster share and repair shop. \nWe opened our doors in February 2022\, with the aim of providing an affordable share and repair service on the high street. Since then\, we have repaired over 1000 items and recently launched our library of things to share. \nAs a Green Ilminster project\, we are committed to helping people and planet by making better use of the resources we already have available\, both the things we own and the skills we possess.
URL:https://cagsomerset.org.uk/event/green-illminster-share-and-repair-shop/2026-06-01/
LOCATION:share and repair illminster\, 18 silver street\, Ilminster\, TA19 0DJ
CATEGORIES:Repair Cafe,share shop
ATTACH;FMTTYPE=image/png:https://cagsomerset.org.uk/wp-content/uploads/2023/12/Logo_new.png
ORGANIZER;CN="Green Ilminster":MAILTO:info@greenilminster.org.uk
END:VEVENT
BEGIN:VEVENT
DTSTART;TZID=UTC:20260604T100000
DTEND;TZID=UTC:20260604T120000
DTSTAMP:20260423T095719
CREATED:20241003T095748Z
LAST-MODIFIED:20241003T095748Z
UID:10000624-1780567200-1780574400@cagsomerset.org.uk
SUMMARY:Green Illminster Share and Repair shop
DESCRIPTION:Green Ilminster share and repair shop. \nWe opened our doors in February 2022\, with the aim of providing an affordable share and repair service on the high street. Since then\, we have repaired over 1000 items and recently launched our library of things to share. \nAs a Green Ilminster project\, we are committed to helping people and planet by making better use of the resources we already have available\, both the things we own and the skills we possess.
URL:https://cagsomerset.org.uk/event/green-illminster-share-and-repair-shop/2026-06-04/
LOCATION:share and repair illminster\, 18 silver street\, Ilminster\, TA19 0DJ
CATEGORIES:Repair Cafe,share shop
ATTACH;FMTTYPE=image/png:https://cagsomerset.org.uk/wp-content/uploads/2023/12/Logo_new.png
ORGANIZER;CN="Green Ilminster":MAILTO:info@greenilminster.org.uk
END:VEVENT
BEGIN:VEVENT
DTSTART;TZID=UTC:20260606T100000
DTEND;TZID=UTC:20260606T120000
DTSTAMP:20260423T095719
CREATED:20241003T095748Z
LAST-MODIFIED:20241003T095748Z
UID:10000625-1780740000-1780747200@cagsomerset.org.uk
SUMMARY:Green Illminster Share and Repair shop
DESCRIPTION:Green Ilminster share and repair shop. \nWe opened our doors in February 2022\, with the aim of providing an affordable share and repair service on the high street. Since then\, we have repaired over 1000 items and recently launched our library of things to share. \nAs a Green Ilminster project\, we are committed to helping people and planet by making better use of the resources we already have available\, both the things we own and the skills we possess.
URL:https://cagsomerset.org.uk/event/green-illminster-share-and-repair-shop/2026-06-06/
LOCATION:share and repair illminster\, 18 silver street\, Ilminster\, TA19 0DJ
CATEGORIES:Repair Cafe,share shop
ATTACH;FMTTYPE=image/png:https://cagsomerset.org.uk/wp-content/uploads/2023/12/Logo_new.png
ORGANIZER;CN="Green Ilminster":MAILTO:info@greenilminster.org.uk
END:VEVENT
BEGIN:VEVENT
DTSTART;TZID=UTC:20260608T100000
DTEND;TZID=UTC:20260608T120000
DTSTAMP:20260423T095719
CREATED:20241003T095748Z
LAST-MODIFIED:20241003T095748Z
UID:10000626-1780912800-1780920000@cagsomerset.org.uk
SUMMARY:Green Illminster Share and Repair shop
DESCRIPTION:Green Ilminster share and repair shop. \nWe opened our doors in February 2022\, with the aim of providing an affordable share and repair service on the high street. Since then\, we have repaired over 1000 items and recently launched our library of things to share. \nAs a Green Ilminster project\, we are committed to helping people and planet by making better use of the resources we already have available\, both the things we own and the skills we possess.
URL:https://cagsomerset.org.uk/event/green-illminster-share-and-repair-shop/2026-06-08/
LOCATION:share and repair illminster\, 18 silver street\, Ilminster\, TA19 0DJ
CATEGORIES:Repair Cafe,share shop
ATTACH;FMTTYPE=image/png:https://cagsomerset.org.uk/wp-content/uploads/2023/12/Logo_new.png
ORGANIZER;CN="Green Ilminster":MAILTO:info@greenilminster.org.uk
END:VEVENT
BEGIN:VEVENT
DTSTART;TZID=UTC:20260611T100000
DTEND;TZID=UTC:20260611T120000
DTSTAMP:20260423T095719
CREATED:20241003T095748Z
LAST-MODIFIED:20241003T095748Z
UID:10000627-1781172000-1781179200@cagsomerset.org.uk
SUMMARY:Green Illminster Share and Repair shop
DESCRIPTION:Green Ilminster share and repair shop. \nWe opened our doors in February 2022\, with the aim of providing an affordable share and repair service on the high street. Since then\, we have repaired over 1000 items and recently launched our library of things to share. \nAs a Green Ilminster project\, we are committed to helping people and planet by making better use of the resources we already have available\, both the things we own and the skills we possess.
URL:https://cagsomerset.org.uk/event/green-illminster-share-and-repair-shop/2026-06-11/
LOCATION:share and repair illminster\, 18 silver street\, Ilminster\, TA19 0DJ
CATEGORIES:Repair Cafe,share shop
ATTACH;FMTTYPE=image/png:https://cagsomerset.org.uk/wp-content/uploads/2023/12/Logo_new.png
ORGANIZER;CN="Green Ilminster":MAILTO:info@greenilminster.org.uk
END:VEVENT
BEGIN:VEVENT
DTSTART;TZID=UTC:20260613T100000
DTEND;TZID=UTC:20260613T120000
DTSTAMP:20260423T095719
CREATED:20241003T095748Z
LAST-MODIFIED:20241003T095748Z
UID:10000628-1781344800-1781352000@cagsomerset.org.uk
SUMMARY:Green Illminster Share and Repair shop
DESCRIPTION:Green Ilminster share and repair shop. \nWe opened our doors in February 2022\, with the aim of providing an affordable share and repair service on the high street. Since then\, we have repaired over 1000 items and recently launched our library of things to share. \nAs a Green Ilminster project\, we are committed to helping people and planet by making better use of the resources we already have available\, both the things we own and the skills we possess.
URL:https://cagsomerset.org.uk/event/green-illminster-share-and-repair-shop/2026-06-13/
LOCATION:share and repair illminster\, 18 silver street\, Ilminster\, TA19 0DJ
CATEGORIES:Repair Cafe,share shop
ATTACH;FMTTYPE=image/png:https://cagsomerset.org.uk/wp-content/uploads/2023/12/Logo_new.png
ORGANIZER;CN="Green Ilminster":MAILTO:info@greenilminster.org.uk
END:VEVENT
BEGIN:VEVENT
DTSTART;TZID=UTC:20260615T100000
DTEND;TZID=UTC:20260615T120000
DTSTAMP:20260423T095719
CREATED:20241003T095748Z
LAST-MODIFIED:20241003T095748Z
UID:10000629-1781517600-1781524800@cagsomerset.org.uk
SUMMARY:Green Illminster Share and Repair shop
DESCRIPTION:Green Ilminster share and repair shop. \nWe opened our doors in February 2022\, with the aim of providing an affordable share and repair service on the high street. Since then\, we have repaired over 1000 items and recently launched our library of things to share. \nAs a Green Ilminster project\, we are committed to helping people and planet by making better use of the resources we already have available\, both the things we own and the skills we possess.
URL:https://cagsomerset.org.uk/event/green-illminster-share-and-repair-shop/2026-06-15/
LOCATION:share and repair illminster\, 18 silver street\, Ilminster\, TA19 0DJ
CATEGORIES:Repair Cafe,share shop
ATTACH;FMTTYPE=image/png:https://cagsomerset.org.uk/wp-content/uploads/2023/12/Logo_new.png
ORGANIZER;CN="Green Ilminster":MAILTO:info@greenilminster.org.uk
END:VEVENT
BEGIN:VEVENT
DTSTART;TZID=UTC:20260618T100000
DTEND;TZID=UTC:20260618T120000
DTSTAMP:20260423T095719
CREATED:20241003T095748Z
LAST-MODIFIED:20241003T095748Z
UID:10000630-1781776800-1781784000@cagsomerset.org.uk
SUMMARY:Green Illminster Share and Repair shop
DESCRIPTION:Green Ilminster share and repair shop. \nWe opened our doors in February 2022\, with the aim of providing an affordable share and repair service on the high street. Since then\, we have repaired over 1000 items and recently launched our library of things to share. \nAs a Green Ilminster project\, we are committed to helping people and planet by making better use of the resources we already have available\, both the things we own and the skills we possess.
URL:https://cagsomerset.org.uk/event/green-illminster-share-and-repair-shop/2026-06-18/
LOCATION:share and repair illminster\, 18 silver street\, Ilminster\, TA19 0DJ
CATEGORIES:Repair Cafe,share shop
ATTACH;FMTTYPE=image/png:https://cagsomerset.org.uk/wp-content/uploads/2023/12/Logo_new.png
ORGANIZER;CN="Green Ilminster":MAILTO:info@greenilminster.org.uk
END:VEVENT
BEGIN:VEVENT
DTSTART;TZID=UTC:20260620T100000
DTEND;TZID=UTC:20260620T120000
DTSTAMP:20260423T095719
CREATED:20241003T095748Z
LAST-MODIFIED:20241003T095748Z
UID:10000631-1781949600-1781956800@cagsomerset.org.uk
SUMMARY:Green Illminster Share and Repair shop
DESCRIPTION:Green Ilminster share and repair shop. \nWe opened our doors in February 2022\, with the aim of providing an affordable share and repair service on the high street. Since then\, we have repaired over 1000 items and recently launched our library of things to share. \nAs a Green Ilminster project\, we are committed to helping people and planet by making better use of the resources we already have available\, both the things we own and the skills we possess.
URL:https://cagsomerset.org.uk/event/green-illminster-share-and-repair-shop/2026-06-20/
LOCATION:share and repair illminster\, 18 silver street\, Ilminster\, TA19 0DJ
CATEGORIES:Repair Cafe,share shop
ATTACH;FMTTYPE=image/png:https://cagsomerset.org.uk/wp-content/uploads/2023/12/Logo_new.png
ORGANIZER;CN="Green Ilminster":MAILTO:info@greenilminster.org.uk
END:VEVENT
BEGIN:VEVENT
DTSTART;TZID=UTC:20260620T100000
DTEND;TZID=UTC:20260620T120000
DTSTAMP:20260423T095719
CREATED:20241003T105726Z
LAST-MODIFIED:20241003T105726Z
UID:10001226-1781949600-1781956800@cagsomerset.org.uk
SUMMARY:Wivey repair cafe
DESCRIPTION:Wivey repair cafe – a workshop run by volunteers\, with the intention of repairing domestic electrical items & preventing them from ending up in landfill. \nCheck facebook group below for updates \nhttps://www.facebook.com/Wiveyrepaircafe
URL:https://cagsomerset.org.uk/event/wivey-repair-cafe/2026-06-20/
LOCATION:wiviliscombe community center\, West street\, wiviliscombe\, TA42AE
CATEGORIES:Repair Cafe
ATTACH;FMTTYPE=image/png:https://cagsomerset.org.uk/wp-content/uploads/2024/01/Screenshot-2024-01-22-124957.png
END:VEVENT
BEGIN:VEVENT
DTSTART;TZID=UTC:20260622T100000
DTEND;TZID=UTC:20260622T120000
DTSTAMP:20260423T095719
CREATED:20241003T095748Z
LAST-MODIFIED:20241003T095748Z
UID:10000632-1782122400-1782129600@cagsomerset.org.uk
SUMMARY:Green Illminster Share and Repair shop
DESCRIPTION:Green Ilminster share and repair shop. \nWe opened our doors in February 2022\, with the aim of providing an affordable share and repair service on the high street. Since then\, we have repaired over 1000 items and recently launched our library of things to share. \nAs a Green Ilminster project\, we are committed to helping people and planet by making better use of the resources we already have available\, both the things we own and the skills we possess.
URL:https://cagsomerset.org.uk/event/green-illminster-share-and-repair-shop/2026-06-22/
LOCATION:share and repair illminster\, 18 silver street\, Ilminster\, TA19 0DJ
CATEGORIES:Repair Cafe,share shop
ATTACH;FMTTYPE=image/png:https://cagsomerset.org.uk/wp-content/uploads/2023/12/Logo_new.png
ORGANIZER;CN="Green Ilminster":MAILTO:info@greenilminster.org.uk
END:VEVENT
BEGIN:VEVENT
DTSTART;TZID=UTC:20260625T100000
DTEND;TZID=UTC:20260625T120000
DTSTAMP:20260423T095719
CREATED:20241003T095748Z
LAST-MODIFIED:20241003T095748Z
UID:10000633-1782381600-1782388800@cagsomerset.org.uk
SUMMARY:Green Illminster Share and Repair shop
DESCRIPTION:Green Ilminster share and repair shop. \nWe opened our doors in February 2022\, with the aim of providing an affordable share and repair service on the high street. Since then\, we have repaired over 1000 items and recently launched our library of things to share. \nAs a Green Ilminster project\, we are committed to helping people and planet by making better use of the resources we already have available\, both the things we own and the skills we possess.
URL:https://cagsomerset.org.uk/event/green-illminster-share-and-repair-shop/2026-06-25/
LOCATION:share and repair illminster\, 18 silver street\, Ilminster\, TA19 0DJ
CATEGORIES:Repair Cafe,share shop
ATTACH;FMTTYPE=image/png:https://cagsomerset.org.uk/wp-content/uploads/2023/12/Logo_new.png
ORGANIZER;CN="Green Ilminster":MAILTO:info@greenilminster.org.uk
END:VEVENT
BEGIN:VEVENT
DTSTART;TZID=UTC:20260627T100000
DTEND;TZID=UTC:20260627T120000
DTSTAMP:20260423T095719
CREATED:20241003T095748Z
LAST-MODIFIED:20241003T095748Z
UID:10000634-1782554400-1782561600@cagsomerset.org.uk
SUMMARY:Green Illminster Share and Repair shop
DESCRIPTION:Green Ilminster share and repair shop. \nWe opened our doors in February 2022\, with the aim of providing an affordable share and repair service on the high street. Since then\, we have repaired over 1000 items and recently launched our library of things to share. \nAs a Green Ilminster project\, we are committed to helping people and planet by making better use of the resources we already have available\, both the things we own and the skills we possess.
URL:https://cagsomerset.org.uk/event/green-illminster-share-and-repair-shop/2026-06-27/
LOCATION:share and repair illminster\, 18 silver street\, Ilminster\, TA19 0DJ
CATEGORIES:Repair Cafe,share shop
ATTACH;FMTTYPE=image/png:https://cagsomerset.org.uk/wp-content/uploads/2023/12/Logo_new.png
ORGANIZER;CN="Green Ilminster":MAILTO:info@greenilminster.org.uk
END:VEVENT
BEGIN:VEVENT
DTSTART;TZID=UTC:20260627T100000
DTEND;TZID=UTC:20260627T120000
DTSTAMP:20260423T095719
CREATED:20241003T105112Z
LAST-MODIFIED:20241003T105112Z
UID:10001166-1782554400-1782561600@cagsomerset.org.uk
SUMMARY:Street repair cafe
DESCRIPTION:We are a group of local volunteers\, bringing together our skills to share. We aim to reduce waste and the need to buy new items by mending bikes\, appliances\, clothing\, clocks and all sorts of other things. There is also the opportunity to learn new skills as repairers are able to teach how to maintain and mend. Our team of keen bakers offer a delicious selection of cakes and biscuits which makes the whole event a thoroughly enjoyable community gathering.
URL:https://cagsomerset.org.uk/event/street-repair-cafe-2/2026-06-27/
CATEGORIES:Repair Cafe
ATTACH;FMTTYPE=image/jpeg:https://cagsomerset.org.uk/wp-content/uploads/2024/02/repair-cafe-logo-002.jpeg
END:VEVENT
BEGIN:VEVENT
DTSTART;TZID=UTC:20260629T100000
DTEND;TZID=UTC:20260629T120000
DTSTAMP:20260423T095719
CREATED:20241003T095748Z
LAST-MODIFIED:20241003T095748Z
UID:10000635-1782727200-1782734400@cagsomerset.org.uk
SUMMARY:Green Illminster Share and Repair shop
DESCRIPTION:Green Ilminster share and repair shop. \nWe opened our doors in February 2022\, with the aim of providing an affordable share and repair service on the high street. Since then\, we have repaired over 1000 items and recently launched our library of things to share. \nAs a Green Ilminster project\, we are committed to helping people and planet by making better use of the resources we already have available\, both the things we own and the skills we possess.
URL:https://cagsomerset.org.uk/event/green-illminster-share-and-repair-shop/2026-06-29/
LOCATION:share and repair illminster\, 18 silver street\, Ilminster\, TA19 0DJ
CATEGORIES:Repair Cafe,share shop
ATTACH;FMTTYPE=image/png:https://cagsomerset.org.uk/wp-content/uploads/2023/12/Logo_new.png
ORGANIZER;CN="Green Ilminster":MAILTO:info@greenilminster.org.uk
END:VEVENT
END:VCALENDAR