BEGIN:VCALENDAR
VERSION:2.0
PRODID:-//CAG Somerset - ECPv6.15.18//NONSGML v1.0//EN
CALSCALE:GREGORIAN
METHOD:PUBLISH
X-ORIGINAL-URL:https://cagsomerset.org.uk
X-WR-CALDESC:Events for CAG Somerset
REFRESH-INTERVAL;VALUE=DURATION:PT1H
X-Robots-Tag:noindex
X-PUBLISHED-TTL:PT1H
BEGIN:VTIMEZONE
TZID:UTC
BEGIN:STANDARD
TZOFFSETFROM:+0000
TZOFFSETTO:+0000
TZNAME:UTC
DTSTART:20250101T000000
END:STANDARD
END:VTIMEZONE
BEGIN:VEVENT
DTSTART;TZID=UTC:20260427T190000
DTEND;TZID=UTC:20260427T203000
DTSTAMP:20260422T083644
CREATED:20260406T122541Z
LAST-MODIFIED:20260407T123603Z
UID:10001307-1777316400-1777321800@cagsomerset.org.uk
SUMMARY:How to host a clothes swap Collaborate
DESCRIPTION:Join CAG Devon and CAG Somerset for a relaxed Q&A session to find out more about Clothes Swaps and how your community action group could set one up. \nWe will hear from; \n– Zoey Cooper at Exmouth Town Council \n– Lucy Mottram from Sustainable Bradninch \n– Helena Power from Wellington Methodist Church \n– Laura Buchanan from Kentisbeare Clothes Swap \nJennifer Cooper will also talk about the ‘Swishing Kits’ which are available to borrow across Devon as part of Recycle Devon. \n  \nBook here
URL:https://cagsomerset.org.uk/event/how-to-host-a-clothes-swap-collaborate/
LOCATION:Online
CATEGORIES:CAG Somerset Event,share shop,Swap shop
ATTACH;FMTTYPE=image/jpeg:https://cagsomerset.org.uk/wp-content/uploads/2026/04/659721935_1334927018664653_1024032137363551196_n.jpg
END:VEVENT
END:VCALENDAR